BEGIN:VCALENDAR
VERSION:2.0
PRODID:-//Community Resource Network - ECPv4.6.8//NONSGML v1.0//EN
CALSCALE:GREGORIAN
METHOD:PUBLISH
X-WR-CALNAME:Community Resource Network
X-ORIGINAL-URL:http://crn.org.au
X-WR-CALDESC:Events for Community Resource Network
BEGIN:VEVENT
DTSTART;TZID=UTC+0:20180301T090000
DTEND;TZID=UTC+0:20180301T113000
DTSTAMP:20180224T115137
CREATED:20180107T114902Z
LAST-MODIFIED:20180219T130546Z
UID:1099-1519894800-1519903800@crn.org.au
SUMMARY:Blacktown Combined Interagency (BCI)
DESCRIPTION:The Blacktown Combined Interagency (BCI) is a monthly meeting coordinated by Community Resource Network (CRN). \nAt the March BCI Meeting\, Domestic Violence Service Management (DVSM) will be discussing the topic will be Upholding Dignity and Social Responses to Violence and provide an overview of the learnings from Dr Allan Wade and Dr Linda Coates. \nWe will also hear from a local organisation\, Rosie’s Place. to discover how they have adopted and benefitted from the learnings from Dr Allan Wade and Dr Linda Coates\, since implementing it into their service. \n\nThe purpose of the BCI is to provide a platform for attendees to engage in thoughtful\, stimulating conversations around key issues and changes affecting the community services sector in Blacktown and beyond. \nThe aim is that attendees leave with a greater understanding of the larger policies and structures governing and affecting their work. And that the knowledge\, expertise and information shared by attendees at these meetings will lead to a stronger\, more resilient and resourceful community sector. \n
URL:http://crn.org.au/event/bci-march-2018/
LOCATION:62 Flushcombe Road\, Blacktown\, NSW\, 2148\, Australia
CATEGORIES:Interagencies,Meeting
ATTACH;FMTTYPE=image/jpeg:http://crn.org.au/wp-content/uploads/2017/04/Blacktown-Combined-Interagency-Meeting.jpg
END:VEVENT
BEGIN:VEVENT
DTSTART;TZID=UTC+0:20180405T090000
DTEND;TZID=UTC+0:20180405T113000
DTSTAMP:20180224T115137
CREATED:20180107T115224Z
LAST-MODIFIED:20180107T122520Z
UID:1101-1522918800-1522927800@crn.org.au
SUMMARY:Blacktown Combined Interagency (BCI)
DESCRIPTION:The Blacktown Combined Interagency (BCI) is a monthly meeting coordinated by Community Resource Network (CRN). \nThe purpose of the BCI is to provide a platform for attendees to engage in thoughtful\, stimulating conversations around key issues and changes affecting the community services sector in Blacktown and beyond. \nThe aim is that attendees leave with a greater understanding of the larger policies and structures governing and affecting their work. And that the knowledge\, expertise and information shared by attendees at these meetings will lead to a stronger\, more resilient and resourceful community sector. \n
URL:http://crn.org.au/event/bci-april-2018/
LOCATION:62 Flushcombe Road\, Blacktown\, NSW\, 2148\, Australia
CATEGORIES:Interagencies,Meeting
ATTACH;FMTTYPE=image/jpeg:http://crn.org.au/wp-content/uploads/2017/04/Blacktown-Combined-Interagency-Meeting.jpg
END:VEVENT
BEGIN:VEVENT
DTSTART;TZID=UTC+0:20180503T090000
DTEND;TZID=UTC+0:20180503T113000
DTSTAMP:20180224T115137
CREATED:20180107T115509Z
LAST-MODIFIED:20180107T122637Z
UID:1103-1525338000-1525347000@crn.org.au
SUMMARY:Blacktown Combined Interagency (BCI)
DESCRIPTION:The Blacktown Combined Interagency (BCI) is a monthly meeting coordinated by Community Resource Network (CRN). \nThe purpose of the BCI is to provide a platform for attendees to engage in thoughtful\, stimulating conversations around key issues and changes affecting the community services sector in Blacktown and beyond. \nThe aim is that attendees leave with a greater understanding of the larger policies and structures governing and affecting their work. And that the knowledge\, expertise and information shared by attendees at these meetings will lead to a stronger\, more resilient and resourceful community sector. \n
URL:http://crn.org.au/event/bci-may-2018/
LOCATION:62 Flushcombe Road\, Blacktown\, NSW\, 2148\, Australia
CATEGORIES:Interagencies,Meeting
ATTACH;FMTTYPE=image/jpeg:http://crn.org.au/wp-content/uploads/2017/04/Blacktown-Combined-Interagency-Meeting.jpg
END:VEVENT
BEGIN:VEVENT
DTSTART;TZID=UTC+0:20180607T090000
DTEND;TZID=UTC+0:20180607T113000
DTSTAMP:20180224T115137
CREATED:20180107T115753Z
LAST-MODIFIED:20180107T122704Z
UID:1105-1528362000-1528371000@crn.org.au
SUMMARY:Blacktown Combined Interagency (BCI)
DESCRIPTION:The Blacktown Combined Interagency (BCI) is a monthly meeting coordinated by Community Resource Network (CRN). \nThe purpose of the BCI is to provide a platform for attendees to engage in thoughtful\, stimulating conversations around key issues and changes affecting the community services sector in Blacktown and beyond. \nThe aim is that attendees leave with a greater understanding of the larger policies and structures governing and affecting their work. And that the knowledge\, expertise and information shared by attendees at these meetings will lead to a stronger\, more resilient and resourceful community sector. \n
URL:http://crn.org.au/event/bci-june-2018/
LOCATION:62 Flushcombe Road\, Blacktown\, NSW\, 2148\, Australia
CATEGORIES:Interagencies,Meeting
ATTACH;FMTTYPE=image/jpeg:http://crn.org.au/wp-content/uploads/2017/04/Blacktown-Combined-Interagency-Meeting.jpg
END:VEVENT
BEGIN:VEVENT
DTSTART;TZID=UTC+0:20180705T090000
DTEND;TZID=UTC+0:20180705T113000
DTSTAMP:20180224T115137
CREATED:20180107T120023Z
LAST-MODIFIED:20180107T122730Z
UID:1107-1530781200-1530790200@crn.org.au
SUMMARY:Blacktown Combined Interagency (BCI)
DESCRIPTION:The Blacktown Combined Interagency (BCI) is a monthly meeting coordinated by Community Resource Network (CRN). \nThe purpose of the BCI is to provide a platform for attendees to engage in thoughtful\, stimulating conversations around key issues and changes affecting the community services sector in Blacktown and beyond. \nThe aim is that attendees leave with a greater understanding of the larger policies and structures governing and affecting their work. And that the knowledge\, expertise and information shared by attendees at these meetings will lead to a stronger\, more resilient and resourceful community sector. \n
URL:http://crn.org.au/event/bci-july-2018/
LOCATION:62 Flushcombe Road\, Blacktown\, NSW\, 2148\, Australia
CATEGORIES:Interagencies,Meeting
ATTACH;FMTTYPE=image/jpeg:http://crn.org.au/wp-content/uploads/2017/04/Blacktown-Combined-Interagency-Meeting.jpg
END:VEVENT
BEGIN:VEVENT
DTSTART;TZID=UTC+0:20180802T090000
DTEND;TZID=UTC+0:20180802T113000
DTSTAMP:20180224T115137
CREATED:20180107T120308Z
LAST-MODIFIED:20180107T122757Z
UID:1109-1533200400-1533209400@crn.org.au
SUMMARY:Blacktown Combined Interagency (BCI)
DESCRIPTION:The Blacktown Combined Interagency (BCI) is a monthly meeting coordinated by Community Resource Network (CRN). \nThe purpose of the BCI is to provide a platform for attendees to engage in thoughtful\, stimulating conversations around key issues and changes affecting the community services sector in Blacktown and beyond. \nThe aim is that attendees leave with a greater understanding of the larger policies and structures governing and affecting their work. And that the knowledge\, expertise and information shared by attendees at these meetings will lead to a stronger\, more resilient and resourceful community sector. \n
URL:http://crn.org.au/event/bci-august-2018/
LOCATION:62 Flushcombe Road\, Blacktown\, NSW\, 2148\, Australia
CATEGORIES:Interagencies,Meeting
ATTACH;FMTTYPE=image/jpeg:http://crn.org.au/wp-content/uploads/2017/04/Blacktown-Combined-Interagency-Meeting.jpg
END:VEVENT
BEGIN:VEVENT
DTSTART;TZID=UTC+0:20180906T090000
DTEND;TZID=UTC+0:20180906T113000
DTSTAMP:20180224T115137
CREATED:20180107T120611Z
LAST-MODIFIED:20180107T122832Z
UID:1111-1536224400-1536233400@crn.org.au
SUMMARY:Blacktown Combined Interagency (BCI)
DESCRIPTION:The Blacktown Combined Interagency (BCI) is a monthly meeting coordinated by Community Resource Network (CRN). \nThe purpose of the BCI is to provide a platform for attendees to engage in thoughtful\, stimulating conversations around key issues and changes affecting the community services sector in Blacktown and beyond. \nThe aim is that attendees leave with a greater understanding of the larger policies and structures governing and affecting their work. And that the knowledge\, expertise and information shared by attendees at these meetings will lead to a stronger\, more resilient and resourceful community sector. \n
URL:http://crn.org.au/event/bci-september-2018/
LOCATION:62 Flushcombe Road\, Blacktown\, NSW\, 2148\, Australia
CATEGORIES:Interagencies,Meeting
ATTACH;FMTTYPE=image/jpeg:http://crn.org.au/wp-content/uploads/2017/04/Blacktown-Combined-Interagency-Meeting.jpg
END:VEVENT
BEGIN:VEVENT
DTSTART;TZID=UTC+0:20181004T090000
DTEND;TZID=UTC+0:20181004T113000
DTSTAMP:20180224T115137
CREATED:20180107T120853Z
LAST-MODIFIED:20180107T122909Z
UID:1113-1538643600-1538652600@crn.org.au
SUMMARY:Blacktown Combined Interagency (BCI)
DESCRIPTION:The Blacktown Combined Interagency (BCI) is a monthly meeting coordinated by Community Resource Network (CRN). \nThe purpose of the BCI is to provide a platform for attendees to engage in thoughtful\, stimulating conversations around key issues and changes affecting the community services sector in Blacktown and beyond. \nThe aim is that attendees leave with a greater understanding of the larger policies and structures governing and affecting their work. And that the knowledge\, expertise and information shared by attendees at these meetings will lead to a stronger\, more resilient and resourceful community sector. \n
URL:http://crn.org.au/event/bci-october-2018/
LOCATION:62 Flushcombe Road\, Blacktown\, NSW\, 2148\, Australia
CATEGORIES:Interagencies,Meeting
ATTACH;FMTTYPE=image/jpeg:http://crn.org.au/wp-content/uploads/2017/04/Blacktown-Combined-Interagency-Meeting.jpg
END:VEVENT
BEGIN:VEVENT
DTSTART;TZID=UTC+0:20181101T090000
DTEND;TZID=UTC+0:20181101T113000
DTSTAMP:20180224T115137
CREATED:20180107T121146Z
LAST-MODIFIED:20180107T122938Z
UID:1115-1541062800-1541071800@crn.org.au
SUMMARY:Blacktown Combined Interagency (BCI)
DESCRIPTION:The Blacktown Combined Interagency (BCI) is a monthly meeting coordinated by Community Resource Network (CRN). \nThe purpose of the BCI is to provide a platform for attendees to engage in thoughtful\, stimulating conversations around key issues and changes affecting the community services sector in Blacktown and beyond. \nThe aim is that attendees leave with a greater understanding of the larger policies and structures governing and affecting their work. And that the knowledge\, expertise and information shared by attendees at these meetings will lead to a stronger\, more resilient and resourceful community sector. \n
URL:http://crn.org.au/event/bci-november-2018/
LOCATION:62 Flushcombe Road\, Blacktown\, NSW\, 2148\, Australia
CATEGORIES:Interagencies,Meeting
ATTACH;FMTTYPE=image/jpeg:http://crn.org.au/wp-content/uploads/2017/04/Blacktown-Combined-Interagency-Meeting.jpg
END:VEVENT
BEGIN:VEVENT
DTSTART;TZID=UTC+0:20181206T090000
DTEND;TZID=UTC+0:20181206T110000
DTSTAMP:20180224T115137
CREATED:20180107T121749Z
LAST-MODIFIED:20180107T122158Z
UID:1117-1544086800-1544094000@crn.org.au
SUMMARY:Blacktown Combined Interagency (BCI) Breakfast
DESCRIPTION:The Blacktown Combined Interagency (BCI) is a monthly meeting coordinated by Community Resource Network (CRN) that’s been running since 1997. \nJoin us for the final BCI meeting in 2017 for a light breakfast\, networking and reflection on the past year. This event is an opportunity for community service workers to connect in an informal setting and for CRN to say thanks for your participation and support of the BCI. \nThis event is FREE\, however as the meeting is being catered for it’s essential that you register your attendance closer to the date. \n
URL:http://crn.org.au/event/bci-december-2018/
LOCATION:Blacktown Showground\, Richmond Rd\, Blacktown\, NSW\, 2148\, Australia
CATEGORIES:Interagencies,Meeting,Networking
ATTACH;FMTTYPE=image/jpeg:http://crn.org.au/wp-content/uploads/2017/11/The-Grounds-Keeper-Cafe-Blacktown.jpg
END:VEVENT
END:VCALENDAR